BEGIN:VCALENDAR
VERSION:2.0
PRODID:-//Plone.org//NONSGML plone.app.event//EN
X-WR-TIMEZONE:Europe/Madrid
BEGIN:VEVENT
SUMMARY:³Cat-1 launch (date TBD)
DTSTART;VALUE=DATE:20180601
DTEND;VALUE=DATE:20180602
DTSTAMP:20260420T181221Z
UID:f338993610f7488d850f617b78574b7c@nanosatlab.upc.edu
CREATED:20160816T165121Z
DESCRIPTION:Launch window TBD. Launch vehicle: PSLV.
LAST-MODIFIED:20180216T143258Z
LOCATION:TBD
URL:https://nanosatlab.upc.edu/en/events/copy_of_3cat-2-launch-date
END:VEVENT
END:VCALENDAR
